BEGIN:VCALENDAR
VERSION:2.0
PRODID:-//Kraftwerk Chemnitz - ECPv6.15.18//NONSGML v1.0//EN
CALSCALE:GREGORIAN
METHOD:PUBLISH
X-WR-CALNAME:Kraftwerk Chemnitz
X-ORIGINAL-URL:https://kraftwerk-chemnitz.de
X-WR-CALDESC:Veranstaltungen für Kraftwerk Chemnitz
REFRESH-INTERVAL;VALUE=DURATION:PT1H
X-Robots-Tag:noindex
X-PUBLISHED-TTL:PT1H
BEGIN:VTIMEZONE
TZID:Europe/Berlin
BEGIN:DAYLIGHT
TZOFFSETFROM:+0100
TZOFFSETTO:+0200
TZNAME:CEST
DTSTART:20200329T010000
END:DAYLIGHT
BEGIN:STANDARD
TZOFFSETFROM:+0200
TZOFFSETTO:+0100
TZNAME:CET
DTSTART:20201025T010000
END:STANDARD
BEGIN:DAYLIGHT
TZOFFSETFROM:+0100
TZOFFSETTO:+0200
TZNAME:CEST
DTSTART:20210328T010000
END:DAYLIGHT
BEGIN:STANDARD
TZOFFSETFROM:+0200
TZOFFSETTO:+0100
TZNAME:CET
DTSTART:20211031T010000
END:STANDARD
BEGIN:DAYLIGHT
TZOFFSETFROM:+0100
TZOFFSETTO:+0200
TZNAME:CEST
DTSTART:20220327T010000
END:DAYLIGHT
BEGIN:STANDARD
TZOFFSETFROM:+0200
TZOFFSETTO:+0100
TZNAME:CET
DTSTART:20221030T010000
END:STANDARD
END:VTIMEZONE
BEGIN:VEVENT
DTSTART;TZID=Europe/Berlin:20210701T150000
DTEND;TZID=Europe/Berlin:20210701T163000
DTSTAMP:20260419T191212
CREATED:20210302T130318Z
LAST-MODIFIED:20210302T130318Z
UID:3807-1625151600-1625157000@kraftwerk-chemnitz.de
SUMMARY:DA CAPO - Musikcafé
DESCRIPTION:Rhythmus für den Alltag! \nDA CAPO – Musik für Senioren in Chemnitz präsentiert: \n„Die Gitarre\, von Profis gespielt“\nmit Ollipekka Määttä\, Fachbereichsleiter Zupfinstrumente der Städtischen Musikschule Chemnitz und seine Schüler \nTamira Reiter\, Sarah und David Mauersberger\, Max Henning \n  \nEintritt: 6\,00 € inklusive Kaffee und Kuchen ab 14:00 Uhr \nDie Teilnahme ist nur nach Anmeldung unter Tel. 0371 383903-0 möglich \nEs gelten die am Veranstaltungstag gültigen Coronabestimmungen.
URL:https://kraftwerk-chemnitz.de/event/da-capo-musikcafe-27/
LOCATION:Start
CATEGORIES:Konzert,Veranstaltungen
END:VEVENT
END:VCALENDAR